



BEGIN:VCALENDAR
VERSION:2.0
PRODID:-//Independent Living Resource Center - ECPv6.15.20//NONSGML v1.0//EN
CALSCALE:GREGORIAN
METHOD:PUBLISH
X-WR-CALNAME:Independent Living Resource Center
X-ORIGINAL-URL:https://ilrcks.org
X-WR-CALDESC:Events for Independent Living Resource Center
REFRESH-INTERVAL;VALUE=DURATION:PT1H
X-Robots-Tag:noindex
X-PUBLISHED-TTL:PT1H
BEGIN:VTIMEZONE
TZID:America/Chicago
BEGIN:DAYLIGHT
TZOFFSETFROM:-0600
TZOFFSETTO:-0500
TZNAME:CDT
DTSTART:20270314T080000
END:DAYLIGHT
BEGIN:STANDARD
TZOFFSETFROM:-0500
TZOFFSETTO:-0600
TZNAME:CST
DTSTART:20271107T070000
END:STANDARD
BEGIN:DAYLIGHT
TZOFFSETFROM:-0600
TZOFFSETTO:-0500
TZNAME:CDT
DTSTART:20280312T080000
END:DAYLIGHT
BEGIN:STANDARD
TZOFFSETFROM:-0500
TZOFFSETTO:-0600
TZNAME:CST
DTSTART:20281105T070000
END:STANDARD
BEGIN:DAYLIGHT
TZOFFSETFROM:-0600
TZOFFSETTO:-0500
TZNAME:CDT
DTSTART:20290311T080000
END:DAYLIGHT
BEGIN:STANDARD
TZOFFSETFROM:-0500
TZOFFSETTO:-0600
TZNAME:CST
DTSTART:20291104T070000
END:STANDARD
END:VTIMEZONE
BEGIN:VEVENT
DTSTART;TZID=America/Chicago:20281005T100000
DTEND;TZID=America/Chicago:20281005T120000
DTSTAMP:20260423T060644
CREATED:20240625T211136Z
LAST-MODIFIED:20241021T185401Z
UID:10016836-1854352800-1854360000@ilrcks.org
SUMMARY:Cooking Class
DESCRIPTION:We welcome everyone to get cookin’ with us! This class is for anyone with little to no cooking experience. You will learn a number of things in Cooking Class like how to fix new or familiar recipes\, proper food kitchen safety\, and food safety. \nYou’ll also learn healthy eating habits and substitutions that can be made to live a healthier lifestyle without giving up great taste. We’ll also teach you meal planning\, budgeting\, portion control\, how to follow recipes\, and how to work with others in the kitchen.
URL:https://ilrcks.org/event/cooking-class/2028-10-05/
CATEGORIES:Cooking Class
ATTACH;FMTTYPE=image/jpeg:https://ilrcks.org/wp-content/uploads/2024/07/IMG_3715-copy-scaled.jpg
END:VEVENT
BEGIN:VEVENT
DTSTART;TZID=America/Chicago:20281005T100000
DTEND;TZID=America/Chicago:20281005T140000
DTSTAMP:20260423T060644
CREATED:20241016T175505Z
LAST-MODIFIED:20241021T184201Z
UID:10018940-1854352800-1854367200@ilrcks.org
SUMMARY:Arts & Crafts Class
DESCRIPTION:Learn how to draw\, paint\, make plaster figurines\, or even how to create a puppet stage. Join ILRC’s weekly Arts & Crafts Class and get creative alone or work together creating fun projects!
URL:https://ilrcks.org/event/arts-crafts/2028-10-05/
CATEGORIES:Arts & Crafts Class
ATTACH;FMTTYPE=image/jpeg:https://ilrcks.org/wp-content/uploads/2024/06/IMG_3854-copy-scaled-1.jpg
END:VEVENT
BEGIN:VEVENT
DTSTART;TZID=America/Chicago:20281005T130000
DTEND;TZID=America/Chicago:20281005T140000
DTSTAMP:20260423T060644
CREATED:20241021T183332Z
LAST-MODIFIED:20241021T183332Z
UID:10017933-1854363600-1854367200@ilrcks.org
SUMMARY:Peer Support
DESCRIPTION:ILRC offers the opportunity for people with disabilities to meet and gain support from others in similar circumstances as well as socializing with their peers. People with all types of disabilities can come together to discuss their lives\, their joys\, their worries and be a positive support for one another. Peer support is offered in groups or individually and is based upon an individual’s needs. \nParent 2 Parent Peer Support:\nILRC offers a chance for Parents of individuals with disabilities to get together and discuss their difficulties and solutions for working with their family or care recipients with disabilities. \nParent 2 Parent Support is available in English and Spanish so that everyone is able to participate and understand.
URL:https://ilrcks.org/event/peer-support-2/2028-10-05/
CATEGORIES:Peer Support
END:VEVENT
END:VCALENDAR